BEGIN:VCALENDAR
VERSION:2.0
PRODID:-//AvidXchange - ECPv5.8.0//NONSGML v1.0//EN
CALSCALE:GREGORIAN
METHOD:PUBLISH
X-WR-CALNAME:AvidXchange
X-ORIGINAL-URL:https://www.avidxchange.com
X-WR-CALDESC:Events for AvidXchange
BEGIN:VTIMEZONE
TZID:America/New_York
BEGIN:DAYLIGHT
TZOFFSETFROM:-0500
TZOFFSETTO:-0400
TZNAME:EDT
DTSTART:20210314T070000
END:DAYLIGHT
BEGIN:STANDARD
TZOFFSETFROM:-0400
TZOFFSETTO:-0500
TZNAME:EST
DTSTART:20211107T060000
END:STANDARD
END:VTIMEZONE
BEGIN:VEVENT
DTSTART;VALUE=DATE:20210812
DTEND;VALUE=DATE:20210813
DTSTAMP:20210812T202203
CREATED:20210629T134607Z
LAST-MODIFIED:20210629T134607Z
UID:25665-1628726400-1628812799@www.avidxchange.com
SUMMARY:REVx On The Road Speaker Series - Chicago
DESCRIPTION:For over 20 years\, we’ve provided customers with a suite of products designed to automate their accounts payable and payment processes. Whether you’re a current customer or looking to automate your AP processes with AvidXchange\, REVx presents you with the opportunity to network with like-minded professionals\, engage in hands-on workshops and listen to keynote speakers from various backgrounds.
URL:https://www.avidxchange.com/event/revx-on-the-road-speaker-series-chicago/
LOCATION:HotelEMC2\, 228 E Ontario St\, Chicago\, IL\, 60611\, United States
ATTACH;FMTTYPE=image/png:https://www.avidxchange.com/wp-content/uploads/2021/06/revx-event-logo.png
END:VEVENT
BEGIN:VEVENT
DTSTART;VALUE=DATE:20210817
DTEND;VALUE=DATE:20210818
DTSTAMP:20210812T202203
CREATED:20210629T135526Z
LAST-MODIFIED:20210629T135526Z
UID:25669-1629158400-1629244799@www.avidxchange.com
SUMMARY:REVx On The Road Speaker Series - Miami
DESCRIPTION:For over 20 years\, we’ve provided customers with a suite of products designed to automate their accounts payable and payment processes. Whether you’re a current customer or looking to automate your AP processes with AvidXchange\, REVx presents you with the opportunity to network with like-minded professionals\, engage in hands-on workshops and listen to keynote speakers from various backgrounds.
URL:https://www.avidxchange.com/event/revx-on-the-road-speaker-series-miami/
LOCATION:EAST Miami Hotel\, 788 Brickell Plaza\, Miami\, FL\, 33131\, United States
ATTACH;FMTTYPE=image/png:https://www.avidxchange.com/wp-content/uploads/2021/06/revx-event-logo.png
END:VEVENT
BEGIN:VEVENT
DTSTART;VALUE=DATE:20210819
DTEND;VALUE=DATE:20210820
DTSTAMP:20210812T202203
CREATED:20210629T135728Z
LAST-MODIFIED:20210629T135728Z
UID:25671-1629331200-1629417599@www.avidxchange.com
SUMMARY:REVx On The Road Speaker Series - Boston
DESCRIPTION:For over 20 years\, we’ve provided customers with a suite of products designed to automate their accounts payable and payment processes. Whether you’re a current customer or looking to automate your AP processes with AvidXchange\, REVx presents you with the opportunity to network with like-minded professionals\, engage in hands-on workshops and listen to keynote speakers from various backgrounds.
URL:https://www.avidxchange.com/event/revx-on-the-road-speaker-series-boston/
LOCATION:9OFS\, 1 Federal St\, Boston\, MA\, 02110\, United States
ATTACH;FMTTYPE=image/png:https://www.avidxchange.com/wp-content/uploads/2021/06/revx-event-logo.png
END:VEVENT
BEGIN:VEVENT
DTSTART;VALUE=DATE:20210824
DTEND;VALUE=DATE:20210825
DTSTAMP:20210812T202203
CREATED:20210629T135204Z
LAST-MODIFIED:20210629T135308Z
UID:25667-1629763200-1629849599@www.avidxchange.com
SUMMARY:REVx On The Road Speaker Series - Los Angeles
DESCRIPTION:For over 20 years\, we’ve provided customers with a suite of products designed to automate their accounts payable and payment processes. Whether you’re a current customer or looking to automate your AP processes with AvidXchange\, REVx presents you with the opportunity to network with like-minded professionals\, engage in hands-on workshops and listen to keynote speakers from various backgrounds.
URL:https://www.avidxchange.com/event/revx-on-the-road-speaker-series-los-angeles/
LOCATION:The Harper\, 1618 Ohms Way\, Costa Mesa\, CA\, 92626\, United States
ATTACH;FMTTYPE=image/png:https://www.avidxchange.com/wp-content/uploads/2021/06/revx-event-logo.png
END:VEVENT
BEGIN:VEVENT
DTSTART;VALUE=DATE:20210826
DTEND;VALUE=DATE:20210827
DTSTAMP:20210812T202203
CREATED:20210629T135935Z
LAST-MODIFIED:20210629T143839Z
UID:25673-1629936000-1630022399@www.avidxchange.com
SUMMARY:REVx On The Road Speaker Series - San Francisco
DESCRIPTION:For over 20 years\, we’ve provided customers with a suite of products designed to automate their accounts payable and payment processes. Whether you’re a current customer or looking to automate your AP processes with AvidXchange\, REVx presents you with the opportunity to network with like-minded professionals\, engage in hands-on workshops and listen to keynote speakers from various backgrounds.
URL:https://www.avidxchange.com/event/revx-on-the-road-speaker-series-san-francisco/
LOCATION:Hotel Zepplin\, 545 Post St\, San Francisco\, CA\, 94102\, United States
ATTACH;FMTTYPE=image/png:https://www.avidxchange.com/wp-content/uploads/2021/06/revx-event-logo.png
END:VEVENT
BEGIN:VEVENT
DTSTART;VALUE=DATE:20210831
DTEND;VALUE=DATE:20210901
DTSTAMP:20210812T202203
CREATED:20210629T140148Z
LAST-MODIFIED:20210809T192215Z
UID:25675-1630368000-1630454399@www.avidxchange.com
SUMMARY:REVx On The Road Speaker Series - New York City
DESCRIPTION:For over 20 years\, we’ve provided customers with a suite of products designed to automate their accounts payable and payment processes. Whether you’re a current customer or looking to automate your AP processes with AvidXchange\, REVx presents you with the opportunity to network with like-minded professionals\, engage in hands-on workshops and listen to keynote speakers from various backgrounds.
URL:https://www.avidxchange.com/event/revx-on-the-road-speaker-series-nyc/
LOCATION:Kimpton Hotel Eventi\, 851 6th Ave\, New York\, NY\, 10001\, United States
ATTACH;FMTTYPE=image/png:https://www.avidxchange.com/wp-content/uploads/2021/06/revx-event-logo.png
END:VEVENT
BEGIN:VEVENT
DTSTART;VALUE=DATE:20210916
DTEND;VALUE=DATE:20210917
DTSTAMP:20210812T202203
CREATED:20210629T140449Z
LAST-MODIFIED:20210706T185752Z
UID:25676-1631750400-1631836799@www.avidxchange.com
SUMMARY:REVx by AvidXchange
DESCRIPTION:For over 20 years\, we’ve provided customers with a suite of products designed to automate their accounts payable and payment processes. Whether you’re a current customer or looking to automate your AP processes with AvidXchange\, REVx presents you with the opportunity to network with like-minded professionals\, engage in hands-on workshops and listen to keynote speakers from various backgrounds.
URL:https://www.avidxchange.com/event/revx-by-avidxchange/
LOCATION:AvidXchange HQ\, 1210 AvidXchange Lane\, Charlotte\, NC\, 28206\, United States
ATTACH;FMTTYPE=image/png:https://www.avidxchange.com/wp-content/uploads/2021/06/revx-event-logo.png
END:VEVENT
END:VCALENDAR